View In:
ArcGIS JavaScript
ArcGIS Online Map Viewer
ArcGIS Earth
ArcMap
ArcGIS Pro
View Footprint In:
ArcGIS Online Map Viewer
Service Description:
Map Name: Couches
Legend
All Layers and Tables
Layers:
Description:
Copyright Text: Bruitparif
Spatial Reference:
102100
(3857)
Single Fused Map Cache: true
Tile Info:
- Height: 256
- Width: 256
- DPI: 96
-
Levels of Detail: 24
-
Level ID: 1
[ Start Tile, End Tile ]
- Resolution: 78271.5169639999
- Scale: 2.95828763795777E8
-
Level ID: 2
[ Start Tile, End Tile ]
- Resolution: 39135.7584820001
- Scale: 1.47914381897889E8
-
Level ID: 3
[ Start Tile, End Tile ]
- Resolution: 19567.8792409999
- Scale: 7.3957190948944E7
-
Level ID: 4
[ Start Tile, End Tile ]
- Resolution: 9783.93962049996
- Scale: 3.6978595474472E7
-
Level ID: 5
[ Start Tile, End Tile ]
- Resolution: 4891.96981024998
- Scale: 1.8489297737236E7
- Format: PNG
- Compression Quality: 0.0
- Origin: X: -2.0037508342787E7
Y: 2.0037508342787E7
- Spatial Reference: 102100
(3857)
Initial Extent:
XMin: 206926.40533999322
YMin: 6216679.20432868
XMax: 309302.2324018803
YMax: 6294438.535749161
Spatial Reference: 102100
(3857)
Full Extent:
XMin: 211649.40987180342
YMin: 6200862.460557864
XMax: 304751.24965867423
YMax: 6288665.691811832
Spatial Reference: 102100
(3857)
Units: esriMeters
Supported Image Format Types: PNG32,PNG24,PNG,JPG,DIB,TIFF,EMF,PS,PDF,GIF,SVG,SVGZ,BMP
Document Info:
Title:
Author:
Comments:
Subject: Niveaux de bruit des aéronefs (type A) - Indicateur Ln (Nuit)
Category:
Keywords: Bruit,Carte Stratégique de Bruit,CSB,Aérien,Type A,Lden,Ile-de-France
AntialiasingMode: None
TextAntialiasingMode: Force
Supports Dynamic Layers: false
MaxRecordCount: 1000
MaxImageHeight: 4096
MaxImageWidth: 4096
Supported Query Formats: JSON, geoJSON
Supports Query Data Elements:
Min Scale: 2311162.217155
Max Scale: 2256.994353
Min LOD: 8
Max LOD: 18
Supports Datum Transformation: true
Child Resources:
Info
Supported Operations:
Export Map
QueryLegends
Return Updates